View In:
ArcGIS JavaScript
ArcGIS Online Map Viewer
ArcGIS Earth
Service Description: NVCgroup_v89_imagedev
Name: NVCgroup_v89_imagedev
Description:
Single Fused Map Cache: false
Extent:
XMin: -2477693.3038788857
YMin: -3677403.803596937
XMax: 4638096.696121114
YMax: 2913056.196403063
Spatial Reference: 102008
(102008)
LatestVCSWkid(0)
Initial Extent:
XMin: -2477693.3038788857
YMin: -3677403.803596937
XMax: 4638096.696121114
YMax: 2913056.196403063
Spatial Reference: 102008
(102008)
LatestVCSWkid(0)
Full Extent:
XMin: -2477693.3038788857
YMin: -3677403.803596937
XMax: 4638096.696121114
YMax: 2913056.196403063
Spatial Reference: 102008
(102008)
LatestVCSWkid(0)
Pixel Size X: 30.0
Pixel Size Y: 30.0
Band Count: 1
Pixel Type: U16
RasterFunction Infos: {"rasterFunctionInfos": [{
"name": "None",
"description": "",
"help": ""
}]}
Mensuration Capabilities: Basic
Inspection Capabilities:
Has Histograms: true
Has Colormap: false
Has Multi Dimensions : false
Rendering Rule:
Min Scale: 0
Max Scale: 0
Copyright Text:
Service Data Type: esriImageServiceDataTypeGeneric
Min Values: 2
Max Values: 1172
Mean Values: 362.5389889006001
Standard Deviation Values: 264.8466020348878
Object ID Field:
Fields:
None
Default Mosaic Method: Center
Allowed Mosaic Methods:
SortField:
SortValue: null
Mosaic Operator: First
Default Compression Quality: 75
Default Resampling Method: Bilinear
Max Record Count: null
Max Image Height: 4100
Max Image Width: 15000
Max Download Image Count: null
Max Mosaic Image Count: null
Allow Raster Function: true
Allow Copy: true
Allow Analysis: true
Allow Compute TiePoints: false
Supports Statistics: false
Supports Advanced Queries: false
Use StandardizedQueries: true
Raster Type Infos:
Name: Raster Dataset
Description: Supports all ArcGIS Raster Datasets
Help:
Has Raster Attribute Table: true
Edit Fields Info: null
Ownership Based AccessControl For Rasters: null
Child Resources:
Info
Raster Attribute Table
Histograms
Statistics
Key Properties
Legend
Raster Function Infos
Supported Operations:
Export Image
Identify
Measure
Compute Histograms
Compute Statistics Histograms
Get Samples
Compute Class Statistics
Query Boundary
Compute Pixel Location
Compute Angles
Validate
Project