{
 "currentVersion": 11.4,
 "serviceDescription": "NVCgroup_v89_imagedev",
 "name": "NVCgroup_v89_imagedev",
 "description": "",
 "extent": {
  "xmin": -2477693.3038788857,
  "ymin": -3677403.803596937,
  "xmax": 4638096.696121114,
  "ymax": 2913056.196403063,
  "spatialReference": {
   "wkid": 102008,
   "latestWkid": 102008
  }
 },
 "initialExtent": {
  "xmin": -2477693.3038788857,
  "ymin": -3677403.803596937,
  "xmax": 4638096.696121114,
  "ymax": 2913056.196403063,
  "spatialReference": {
   "wkid": 102008,
   "latestWkid": 102008
  }
 },
 "fullExtent": {
  "xmin": -2477693.3038788857,
  "ymin": -3677403.803596937,
  "xmax": 4638096.696121114,
  "ymax": 2913056.196403063,
  "spatialReference": {
   "wkid": 102008,
   "latestWkid": 102008
  }
 },
 "sortableFields": "",
 "bandCount": 1,
 "pixelType": "U16",
 "minValues": [
  2
 ],
 "maxValues": [
  1172
 ],
 "meanValues": [
  362.5389889006001
 ],
 "stdvValues": [
  264.8466020348878
 ],
 "hasMultidimensions": false,
 "pixelSizeX": 30,
 "pixelSizeY": 30,
 "meanPixelSize": 30,
 "datasetFormat": "Cache/LERC2D",
 "uncompressedSize": 104214065252,
 "blockWidth": 256,
 "blockHeight": 256,
 "compressionType": "LERC2D",
 "bandNames": [
  "Band_1"
 ],
 "allowCopy": true,
 "allowAnalysis": true,
 "itemAccess": false,
 "inspectionCapabilities": "",
 "noDataValue": 65535,
 "noDataValues": [
  65535
 ],
 "minPixelSize": 0,
 "maxPixelSize": 0,
 "copyrightText": "",
 "serviceDataType": "esriImageServiceDataTypeGeneric",
 "serviceSourceType": "esriImageServiceSourceTypeDataset",
 "objectIdField": "",
 "fields": [],
 "capabilities": "Image,Metadata,Mensuration",
 "defaultMosaicMethod": "Center",
 "allowedMosaicMethods": "",
 "sortField": "",
 "sortValue": null,
 "sortAscending": true,
 "mosaicOperator": "First",
 "defaultCompressionQuality": 75,
 "defaultResamplingMethod": "Bilinear",
 "maxImageHeight": 4100,
 "maxImageWidth": 15000,
 "allowRasterFunction": true,
 "rasterFunctionInfos": [
  {
   "name": "None",
   "description": "",
   "help": ""
  }
 ],
 "rasterTypeInfos": [
  {
   "name": "Raster Dataset",
   "description": "Supports all ArcGIS Raster Datasets",
   "help": ""
  }
 ],
 "mensurationCapabilities": "Basic",
 "hasHistograms": true,
 "hasColormap": false,
 "hasRasterAttributeTable": true,
 "minScale": 0,
 "maxScale": 0,
 "exportTilesAllowed": false,
 "supportsStatistics": false,
 "supportsAdvancedQueries": false,
 "editFieldsInfo": null,
 "ownershipBasedAccessControlForRasters": null,
 "allowComputeTiePoints": false,
 "useStandardizedQueries": true,
 "advancedQueryCapabilities": {
  "useStandardizedQueries": true,
  "supportsStatistics": false,
  "supportsOrderBy": false,
  "supportsDistinct": false,
  "supportsPagination": false
 },
 "spatialReference": {
  "wkid": 102008,
  "latestWkid": 102008
 }
}
