View In:
ArcGIS JavaScript
ArcGIS Online Map Viewer
ArcGIS Earth
ArcGIS Pro
Service Description:
Map Name: Map
Legend
All Layers and Tables
Layers:
Description:
Service Item Id: 2c03bb99d1cb41bda05fa1e532d56ab9
Copyright Text:
Spatial Reference:
102003
(102003)
LatestVCSWkid(0)
Single Fused Map Cache: true
Tile Info:
- Height: 256
- Width: 256
- DPI: 96
-
Levels of Detail: 19
-
Level ID: 0
[ Start Tile, End Tile ]
- Resolution: 132038.88546868955
- Scale: 4.9904460649583447E8
-
Level ID: 1
[ Start Tile, End Tile ]
- Resolution: 66019.44273434478
- Scale: 2.4952230324791723E8
-
Level ID: 2
[ Start Tile, End Tile ]
- Resolution: 33009.72136717239
- Scale: 1.2476115162395862E8
-
Level ID: 3
[ Start Tile, End Tile ]
- Resolution: 16504.860683586194
- Scale: 6.238057581197931E7
-
Level ID: 4
[ Start Tile, End Tile ]
- Resolution: 8252.430341793097
- Scale: 3.1190287905989654E7
-
Level ID: 5
[ Start Tile, End Tile ]
- Resolution: 4126.215170896548
- Scale: 1.5595143952994827E7
-
Level ID: 6
[ Start Tile, End Tile ]
- Resolution: 2063.107585448274
- Scale: 7797571.976497414
-
Level ID: 7
[ Start Tile, End Tile ]
- Resolution: 1031.553792724137
- Scale: 3898785.988248707
-
Level ID: 8
[ Start Tile, End Tile ]
- Resolution: 515.7768963620686
- Scale: 1949392.9941243534
-
Level ID: 9
[ Start Tile, End Tile ]
- Resolution: 257.8884481810343
- Scale: 974696.4970621767
-
Level ID: 10
[ Start Tile, End Tile ]
- Resolution: 128.94422409051714
- Scale: 487348.24853108835
-
Level ID: 11
[ Start Tile, End Tile ]
- Resolution: 64.47211204525857
- Scale: 243674.12426554417
-
Level ID: 12
[ Start Tile, End Tile ]
- Resolution: 32.236056022629285
- Scale: 121837.06213277209
-
Level ID: 13
[ Start Tile, End Tile ]
- Resolution: 16.118028011314642
- Scale: 60918.531066386044
-
Level ID: 14
[ Start Tile, End Tile ]
- Resolution: 8.059014005657321
- Scale: 30459.265533193022
-
Level ID: 15
[ Start Tile, End Tile ]
- Resolution: 4.029507002828661
- Scale: 15229.632766596511
-
Level ID: 16
[ Start Tile, End Tile ]
- Resolution: 2.0147535014143303
- Scale: 7614.8163832982555
-
Level ID: 17
[ Start Tile, End Tile ]
- Resolution: 1.0073767507071651
- Scale: 3807.4081916491277
-
Level ID: 18
[ Start Tile, End Tile ]
- Resolution: 0.5036883753535826
- Scale: 1903.7040958245639
- Format: Mixed
- Compression Quality: 75.0
- Origin: X: -1.6900977339992262E7
Y: 1.9457164918761086E7
- Spatial Reference: 102003
(102003)
LatestVCSWkid(0)
Storage Info:
- Storage Format: esriMapCacheStorageModeCompactV2
- Packet Size: 128
Initial Extent:
XMin: 809860.6471070098
YMin: 243842.35334933223
XMax: 2771591.8375196364
YMax: 1540712.494379689
Spatial Reference: 102003
(102003)
LatestVCSWkid(0)
Full Extent:
XMin: 1148115.0000000002
YMin: 244948.73942266311
XMax: 2277585.000000001
YMax: 1470778.739422666
Spatial Reference: 102003
(102003)
LatestVCSWkid(0)
Units: esriMeters
Supported Image Format Types: PNG32,PNG24,PNG,JPG,DIB,TIFF,EMF,PS,PDF,GIF,SVG,SVGZ,BMP
Document Info:
Title: S:\Projects\_Workspaces\Christopher_Tracey\DFL_NortheastGroupMaps\DFL_NortheastGroupMaps.aprx
Author:
Comments:
Subject:
Category:
Keywords:
AntialiasingMode: None
TextAntialiasingMode: Force
Supports Dynamic Layers: false
MaxRecordCount: 1000
MaxSelectionCount: 0
MaxImageHeight: 4096
MaxImageWidth: 4096
Supported Query Formats: JSON, geoJSON, PBF
Supports Query Data Elements: true
Min Scale: 1.5595143952994827E7
Max Scale: 243674.12426554417
Supports Datum Transformation: true
Child Resources:
Info
Supported Operations:
QueryLegends
Return Updates