View In:
ArcGIS JavaScript
ArcGIS Online Map Viewer
ArcGIS Earth
ArcGIS Pro
Service Description:
Map Name: Map
Legend
All Layers and Tables
Layers:
Description:
Service Item Id: ca010948ae0042e6a23118f961aead52
Copyright Text:
Spatial Reference:
102008
(102008)
LatestVCSWkid(0)
Single Fused Map Cache: true
Tile Info:
- Height: 256
- Width: 256
- DPI: 96
-
Levels of Detail: 19
-
Level ID: 0
[ Start Tile, End Tile ]
- Resolution: 130374.42925323166
- Scale: 4.927537483586708E8
-
Level ID: 1
[ Start Tile, End Tile ]
- Resolution: 65187.21462661583
- Scale: 2.463768741793354E8
-
Level ID: 2
[ Start Tile, End Tile ]
- Resolution: 32593.607313307915
- Scale: 1.231884370896677E8
-
Level ID: 3
[ Start Tile, End Tile ]
- Resolution: 16296.803656653958
- Scale: 6.159421854483385E7
-
Level ID: 4
[ Start Tile, End Tile ]
- Resolution: 8148.401828326979
- Scale: 3.0797109272416923E7
-
Level ID: 5
[ Start Tile, End Tile ]
- Resolution: 4074.2009141634894
- Scale: 1.5398554636208462E7
-
Level ID: 6
[ Start Tile, End Tile ]
- Resolution: 2037.1004570817447
- Scale: 7699277.318104231
-
Level ID: 7
[ Start Tile, End Tile ]
- Resolution: 1018.5502285408724
- Scale: 3849638.6590521154
-
Level ID: 8
[ Start Tile, End Tile ]
- Resolution: 509.2751142704362
- Scale: 1924819.3295260577
-
Level ID: 9
[ Start Tile, End Tile ]
- Resolution: 254.6375571352181
- Scale: 962409.6647630288
-
Level ID: 10
[ Start Tile, End Tile ]
- Resolution: 127.31877856760904
- Scale: 481204.8323815144
-
Level ID: 11
[ Start Tile, End Tile ]
- Resolution: 63.65938928380452
- Scale: 240602.4161907572
-
Level ID: 12
[ Start Tile, End Tile ]
- Resolution: 31.82969464190226
- Scale: 120301.2080953786
-
Level ID: 13
[ Start Tile, End Tile ]
- Resolution: 15.91484732095113
- Scale: 60150.6040476893
-
Level ID: 14
[ Start Tile, End Tile ]
- Resolution: 7.957423660475565
- Scale: 30075.30202384465
-
Level ID: 15
[ Start Tile, End Tile ]
- Resolution: 3.9787118302377826
- Scale: 15037.651011922326
-
Level ID: 16
[ Start Tile, End Tile ]
- Resolution: 1.9893559151188913
- Scale: 7518.825505961163
-
Level ID: 17
[ Start Tile, End Tile ]
- Resolution: 0.9946779575594457
- Scale: 3759.4127529805814
-
Level ID: 18
[ Start Tile, End Tile ]
- Resolution: 0.49733897877972283
- Scale: 1879.7063764902907
- Format: Mixed
- Compression Quality: 75.0
- Origin: X: -1.6687926944413653E7
Y: 1.865155023815797E7
- Spatial Reference: 102008
(102008)
LatestVCSWkid(0)
Storage Info:
- Storage Format: esriMapCacheStorageModeCompactV2
- Packet Size: 128
Initial Extent:
XMin: -3173146.9827851052
YMin: -1315297.5689765217
XMax: 2020661.4064545226
YMax: 554721.958728177
Spatial Reference: 102008
(102008)
LatestVCSWkid(0)
Full Extent:
XMin: -6501882.062946636
YMin: -3020912.5503340997
XMax: 4571987.937053364
YMax: 5539257.4496659
Spatial Reference: 102008
(102008)
LatestVCSWkid(0)
Units: esriMeters
Supported Image Format Types: PNG32,PNG24,PNG,JPG,DIB,TIFF,EMF,PS,PDF,GIF,SVG,SVGZ,BMP
Document Info:
Title: S:\Projects\_Workspaces\Christopher_Tracey\ABC_try5\ABC_try5.aprx
Author:
Comments:
Subject:
Category:
Keywords:
AntialiasingMode: None
TextAntialiasingMode: Force
Supports Dynamic Layers: false
MaxRecordCount: 1000
MaxSelectionCount: 0
MaxImageHeight: 4096
MaxImageWidth: 4096
Supported Query Formats: JSON, geoJSON, PBF
Supports Query Data Elements: true
Min Scale: 5.91657527591555E8
Max Scale: 78486
Supports Datum Transformation: true
Child Resources:
Info
Supported Operations:
QueryLegends
Return Updates