{
 "currentVersion": 11.4,
 "serviceDescription": "S3/IVC_Subclass_NA_AR_WarmDesert",
 "name": "S3/IVC_Subclass_NA_AR_WarmDesert",
 "description": "",
 "extent": {
  "xmin": -5383106.511076812,
  "ymin": -1875577.4602549784,
  "xmax": 4091403.4889231883,
  "ymax": 5559142.539745022,
  "spatialReference": {
   "wkid": 102008,
   "latestWkid": 102008
  }
 },
 "initialExtent": {
  "xmin": -5383106.511076812,
  "ymin": -1875577.4602549784,
  "xmax": 4091403.4889231883,
  "ymax": 5559142.539745022,
  "spatialReference": {
   "wkid": 102008,
   "latestWkid": 102008
  }
 },
 "fullExtent": {
  "xmin": -5383106.511076812,
  "ymin": -1875577.4602549784,
  "xmax": 4091403.4889231883,
  "ymax": 5559142.539745022,
  "spatialReference": {
   "wkid": 102008,
   "latestWkid": 102008
  }
 },
 "sortableFields": "",
 "bandCount": 1,
 "pixelType": "S8",
 "minValues": [
  7
 ],
 "maxValues": [
  7
 ],
 "meanValues": [
  7
 ],
 "stdvValues": [
  0
 ],
 "hasMultidimensions": false,
 "pixelSizeX": 30,
 "pixelSizeY": 30,
 "meanPixelSize": 30,
 "datasetFormat": "Cache/LERC2D",
 "uncompressedSize": 78267032208,
 "blockWidth": 256,
 "blockHeight": 256,
 "compressionType": "LERC2D",
 "bandNames": [
  "Band_1"
 ],
 "allowCopy": true,
 "allowAnalysis": true,
 "itemAccess": false,
 "inspectionCapabilities": "",
 "noDataValue": -128,
 "noDataValues": [
  -128
 ],
 "minPixelSize": 0,
 "maxPixelSize": 0,
 "copyrightText": "",
 "serviceDataType": "esriImageServiceDataTypeGeneric",
 "serviceSourceType": "esriImageServiceSourceTypeDataset",
 "objectIdField": "",
 "fields": [],
 "capabilities": "Image,Metadata,Mensuration",
 "defaultMosaicMethod": "Center",
 "allowedMosaicMethods": "",
 "sortField": "",
 "sortValue": null,
 "sortAscending": true,
 "mosaicOperator": "First",
 "defaultCompressionQuality": 75,
 "defaultResamplingMethod": "Bilinear",
 "maxImageHeight": 4100,
 "maxImageWidth": 15000,
 "allowRasterFunction": true,
 "rasterFunctionInfos": [
  {
   "name": "None",
   "description": "",
   "help": ""
  }
 ],
 "rasterTypeInfos": [
  {
   "name": "Raster Dataset",
   "description": "Supports all ArcGIS Raster Datasets",
   "help": ""
  }
 ],
 "mensurationCapabilities": "Basic",
 "hasHistograms": true,
 "hasColormap": false,
 "hasRasterAttributeTable": true,
 "minScale": 0,
 "maxScale": 0,
 "exportTilesAllowed": false,
 "supportsStatistics": false,
 "supportsAdvancedQueries": false,
 "editFieldsInfo": null,
 "ownershipBasedAccessControlForRasters": null,
 "allowComputeTiePoints": false,
 "useStandardizedQueries": true,
 "advancedQueryCapabilities": {
  "useStandardizedQueries": true,
  "supportsStatistics": false,
  "supportsOrderBy": false,
  "supportsDistinct": false,
  "supportsPagination": false
 },
 "spatialReference": {
  "wkid": 102008,
  "latestWkid": 102008
 }
}
